BEGIN:VCALENDAR
VERSION:2.0
PRODID:-//ZContent.net//ZapCalLib 1.0//EN
CALSCALE:GREGORIAN
METHOD:PUBLISH
BEGIN:VEVENT
SUMMARY:JournÃ©e de CommÃ©moration Nationale
DTSTART:20181007T000000
DTEND:20181007T000000
LOCATION:
X-ALT-DESC;FMTTYPE=text/html:<p>Le collÃ¨ge des bourgmestre et Ã©chevins vo
 us invite par la prÃ©sente Ã  remÃ©morer le souvenir des enrÃ´lÃ©s de forc
 e morts ou disparus, victimes du nazisme dans la seconde guerre mondiale.<
 /p>\n\n<p><br />\nA cette fin aura lieu le dimanche 7 octobre 2018 , une m
 esse solennelle, cÃ©lÃ©brÃ©e Ã  10h45 en lâ€™Ã©glise paroissiale de Strass
 en, suivie d'une commÃ©moration devant le Monument aux Morts.</p>\n\n<p>Â 
 </p>\n\n<p>En comptant sur votre prÃ©sence, nous vous prions d'agrÃ©er, Ma
 dame, Monsieur, l'expression de nos sentiments distinguÃ©s.</p>\n\n<p>Â </
 p>\n\n<p>Gaston GREIVELDINGER, bourgmestre<br />\nNico PUNDEL, Ã©chevin<br
  />\nFranÃ§ois GLEIS, Ã©chevin</p>\n\n<p>Â </p>\n\n<p>Â </p>\n\n<p><strong
 >Proclamation du Gouvernement</strong></p>\n\n<p>La JournÃ©e de la CommÃ©m
 oration nationale offre lâ€™occasion Ã  tous les Luxembourgeois de rendre 
 hommage Ã  tous ceux de leurs compatriotes qui ont rÃ©sistÃ© Ã  lâ€™oppres
 sion nazie au cours des terribles annÃ©es de guerre 1940 Ã  1945 et qui on
 t luttÃ© pour lâ€™indÃ©pendance, lâ€™identitÃ© et la libertÃ© de notre pat
 rie.</p>\n\n<p>Le devoir de mÃ©moire constitue une nÃ©cessitÃ© impÃ©rieuse
  pour toute Nation. La JournÃ©e de la CommÃ©moration Nationale offre annue
 llement au peuple luxembourgeois la possibilitÃ© de se souvenir des moment
 s importants de son histoire, de transmettre cette mÃ©moire aux gÃ©nÃ©rati
 ons postÃ©rieures qui ont eu la chance de vivre en paix et de sensibiliser
  celles-ci aux valeurs humaines et dÃ©mocratiques que sont la paix, le res
 pect des droits de lâ€™homme, la libertÃ© et la justice.</p>\n\n<p>La soli
 daritÃ© entre partisans de la paix et le devoir de chacun dâ€™entre nous d
 â€™essayer de convaincre par des arguments pacifiques est une leÃ§on de ci
 visme que nous a lÃ©guÃ©e la DeuxiÃ¨me Guerre Mondiale. Toute nation dÃ©mo
 cratique doit sâ€™en souvenir Ã  tout jamais.</p>\n\n<p>La solidaritÃ© est
  ainsi un Ã©lÃ©ment important de lâ€™histoire du peuple luxembourgeois. El
 le reste gravÃ©e Ã  jamais dans la mÃ©moire de la Nation luxembourgeoise.<
 /p>\n\n<p>Les femmes et les hommes auxquels nous rendons hommage aujourdâ€
 ™hui ont vÃ©cu concrÃ¨tement cette solidaritÃ©. Par leur courage et leurs 
 sacrifices, ils ont permis Ã  notre patrie de perdurer au-delÃ  de la guer
 re pour prendre sa place au sein de la communautÃ© internationale dâ€™aprÃ
 ¨s-guerre. Il est pour nous tous une obligation de tÃ©moigner Ã  ces femme
 s et ces hommes un profond respect et une reconnaissance sincÃ¨re.</p>\n\n
 <p>Le souvenir des patriotes est restÃ© vivant. Il continue dâ€™Ã©clairer 
 le peuple luxembourgeois.</p>
UID:2020-01-25-10-18-58
DTSTAMP:20200125T091858
END:VEVENT
END:VCALENDAR
