BEGIN:VCALENDAR
VERSION:2.0
PRODID:-//ZContent.net//ZapCalLib 1.0//EN
CALSCALE:GREGORIAN
METHOD:PUBLISH
BEGIN:VEVENT
SUMMARY:Nuit des MusÃ©es
DTSTART:20181013T000000
DTEND:20181013T000000
LOCATION:
X-ALT-DESC;FMTTYPE=text/html:<p>Depuis sa premiÃ¨re Ã©dition en 2001, la Nu
 it des MusÃ©esÂ Ã  Luxembourg-Ville est devenue le rendez-vous annuel inco
 ntournable pour les passionnÃ©s de culture et de patrimoine. Le 13 octobre
  2018 les sept musÃ©es de la capitale vous ouvrent leurs portes en mode no
 cturne et vous invitent Ã  dÃ©couvrir lâ€™art, lâ€™histoire et la nature Ã
   la lueur des Ã©toiles.</p>\n\n<p>Â </p>\n\n<p>A lâ€™instar des annÃ©es p
 rÃ©cÃ©dentes, un riche programme dâ€™animations autour des collections et 
 expositions temporaires est proposÃ© ! Visites guidÃ©es spÃ©ciales, atelie
 rs pour enfants et adultes, performances, confÃ©rences, projections de fil
 ms, nocturnes avec DJ, surprises gourmandes et bien dâ€™autres activitÃ©s 
 encore sont programme.</p>\n\n<p>Â </p>\n\n<p><a href="http://museumsmile.
 lu/event/nuitdesmusees/" target="_blank">Nuit des musÃ©es</a></p>
UID:2020-01-25-10-19-12
DTSTAMP:20200125T091912
END:VEVENT
END:VCALENDAR
