BEGIN:VCALENDAR
VERSION:2.0
PRODID:-//ZContent.net//ZapCalLib 1.0//EN
CALSCALE:GREGORIAN
METHOD:PUBLISH
BEGIN:VEVENT
SUMMARY:Makadammen
DTSTART:20181024T200000
DTEND:20181024T230000
LOCATION:Centre Culturel Paul Barblé, entrée rue des Romains, Strassen
X-ALT-DESC;FMTTYPE=text/html:
UID:2020-01-25-10-18-47
DTSTAMP:20200125T091847
END:VEVENT
END:VCALENDAR
