BEGIN:VCALENDAR
VERSION:2.0
PRODID:-//ZContent.net//ZapCalLib 1.0//EN
CALSCALE:GREGORIAN
METHOD:PUBLISH
BEGIN:VEVENT
SUMMARY:Kufika
DTSTART:20181111T110000
DTEND:20181111T130000
LOCATION:Centre Culturel Paul BarblÃ©, entrÃ©e rue des Romains, Strassen
X-ALT-DESC;FMTTYPE=text/html:<p><strong>Wissenschaftsshow fÃ¼r Kinderâ€žBaf
 fâ€ž</strong></p>\n\n<p>Â </p>\n\n<p>Wasser verschwindet, blitzartig ersch
 eint eine Wolke aus dem Nichts, unsichtbare KrÃ¤fte zerquetschen einen sta
 bilen Metallkanister. Ist das Zauberei?<br />\nNein, denn fÃ¼r all das gib
 t es eine wissenschaftliche ErklÃ¤rung!<br />\nIn seiner neuen Wissenschaf
 tsshow Baff! verbindet der fernsehbekannte Diplom-Physiker Felix Homann er
 neut hochspannende Experimente mit intelligenter Komik zu einer Show unter
  dem Motto: Staunen - Lachen - Verstehen. Dabei lassen hochspannende Exper
 imente die Haare zu Berge stehen, wÃ¤hrend urkomische Showelemente die Lac
 hmuskeln massieren.</p>\n\n<p><br />\nDie Kinder sind dabei nicht nur bloÃ
 Ÿe Zuschauer, sondern sie werden aktiv an den BÃ¼hnenexperimenten beteilig
 t. Mit viel SpaÃŸ entdecken sie so erstaunlichste naturwissenschaftliche P
 hÃ¤nomene.</p>\n\n<p>Â </p>\n\n<p>Obligatorische Anmeldung Ã¼ber <a href="
 mailto:luiza.sosna@strassen.lu">email</a> oder 310 262 - 270 bei Frau SOSN
 A.</p>
UID:2020-01-25-10-18-10
DTSTAMP:20200125T091810
END:VEVENT
END:VCALENDAR
