BEGIN:VCALENDAR
VERSION:2.0
PRODID:-//ZContent.net//ZapCalLib 1.0//EN
CALSCALE:GREGORIAN
METHOD:PUBLISH
BEGIN:VEVENT
SUMMARY:Exposition Roger Dornseiffer et Jacky Jones
DTSTART:20181113T190000
DTEND:20181125T183000
LOCATION:Galerie "A Spiren", 203, route d'Arlon, Strassen
X-ALT-DESC;FMTTYPE=text/html:<p>Le collège des bourgmestre et échevins de
  la commune de Strassen, en collaboration avec la commission de la culture
 ,<br />\nvous invite au vernissage de l’exposition qui aura lieu à la G
 alerie A Spiren MARDI, 13 novembre 2018 à 19h00.</p>\n\n<p><br />\nL’ex
 position est ouverte tous les jours de 14h30 à 18h30 sauf le lundi.</p>
UID:2020-01-25-10-17-57
DTSTAMP:20200125T091757
END:VEVENT
END:VCALENDAR
