BEGIN:VCALENDAR
VERSION:2.0
PRODID:-//ZContent.net//ZapCalLib 1.0//EN
CALSCALE:GREGORIAN
METHOD:PUBLISH
BEGIN:VEVENT
SUMMARY:Walfer Bicherdeeg
DTSTART:20181117T183000
DTEND:20181118T180000
LOCATION:
X-ALT-DESC;FMTTYPE=text/html:<p>Le Salon du Livre des Walfer Bicherdeeg, qu
 i est organisé tous les ans par la commune de Walferdange, est l’un de
 s plus importants rendez-vous culturels du Grand-Duché.</p>\n\n<p> </p>\
 n\n<p><strong>Horaires d'ouverture</strong><br />\nVendredi 16 novembre: 1
 8.30 à 22.00 : Soirée luxembourgeoise - inscprition nécessaire<br />\nS
 amedi 17 novembre: 10.30 à 18.00<br />\nDimanche 18 novembre: 10.00 à 18
 .00</p>\n\n<p><a href="http://www.bicherdeeg.lu/fr/" target="_blank">www.b
 icherdeeg.lu</a></p>
UID:2020-01-25-10-10-19
DTSTAMP:20200125T091019
END:VEVENT
END:VCALENDAR
