BEGIN:VCALENDAR
VERSION:2.0
PRODID:-//ZContent.net//ZapCalLib 1.0//EN
CALSCALE:GREGORIAN
METHOD:PUBLISH
BEGIN:VEVENT
SUMMARY:Bazar de la Croix-Rouge
DTSTART:20181118T100000
DTEND:20181118T180000
LOCATION:
X-ALT-DESC;FMTTYPE=text/html:<p>Hall Victor Hugo, Limpertsberg (Ville de Lu
 xembourg)</p>\n\n<p> </p>\n\n<p>Dimanche, les amoureux de brocante et les
  âmes généreuses ont rendez-vous au Hall Victor-Hugo pour la 73e éditi
 on du Bazar de la Croix-Rouge.</p>\n\n<p>De 10.00 à 18.00 heures.</p>\n\n
 <p><a href="http://www.croix-rouge.lu/index.php?option=com_content&task=vi
 ew&id=897&Itemid=1" target="_blank">Bazar de la Croix-Rouge</a></p>
UID:2020-01-25-10-09-01
DTSTAMP:20200125T090901
END:VEVENT
END:VCALENDAR
