BEGIN:VCALENDAR
VERSION:2.0
PRODID:-//ZContent.net//ZapCalLib 1.0//EN
CALSCALE:GREGORIAN
METHOD:PUBLISH
BEGIN:VEVENT
SUMMARY:Marché aux produits frais
DTSTART:20181123T160000
DTEND:20181123T190000
LOCATION:Parking du Centre Culturel Paul Barblé, rue des Romains, Strassen
X-ALT-DESC;FMTTYPE=text/html:<p>Venez faire vos achats au marché bimensuel
  qui aura lieu chaque 2e et 4e vendredi du mois de 16.00 à 19.00 heures.<
 /p>
UID:2020-01-25-10-07-15
DTSTAMP:20200125T090715
END:VEVENT
END:VCALENDAR
