BEGIN:VCALENDAR
VERSION:2.0
PRODID:-//ZContent.net//ZapCalLib 1.0//EN
CALSCALE:GREGORIAN
METHOD:PUBLISH
BEGIN:VEVENT
SUMMARY:Mëttesdësch
DTSTART:20181211T120000
DTEND:20181211T150000
LOCATION:Centre Culturel Paul Barblé, entrée rue des Romains, Strassen
X-ALT-DESC;FMTTYPE=text/html:<p>Le Collège des Bourgmestre et Échvins de 
 la Commune de Strassen en collaboration avec le Club Senior et le Centre p
 our personnes âgées "Riedgen" vous invite au Mëttesdësch.</p>\n\n<p> 
 </p>\n\n<p><strong>Menu:</strong></p>\n\n<p>Bisque de homard<br />\nCivet 
 de Marcassin et ses accompagnements<br />\nApfelstrudel sur sauce vanille<
 br />\nCafé et Stollen</p>\n\n<p>Prix: 25 €<br />\n(boissons et café i
 nclus)</p>\n\n<p> </p>\n\n<p><strong>Inscription juqu'au 06.12.2018 au 31
 0 262-407</strong></p>
UID:2020-01-25-04-04-58
DTSTAMP:20200125T030458
END:VEVENT
END:VCALENDAR
