BEGIN:VCALENDAR
VERSION:2.0
PRODID:-//ZContent.net//ZapCalLib 1.0//EN
CALSCALE:GREGORIAN
METHOD:PUBLISH
BEGIN:VEVENT
SUMMARY:Café Babel
DTSTART:20190114T190000
DTEND:20190114T210000
LOCATION:Centre Culturel Paul Barblé, entrée rue des Romains, Strassen
X-ALT-DESC;FMTTYPE=text/html:<p>Venez pratiquer des langues étrangères de
  19.00 - 21.00 heures au Centre Culturel Paul Barblé</p>
UID:2020-01-25-07-58-18
DTSTAMP:20200125T065818
END:VEVENT
END:VCALENDAR
