BEGIN:VCALENDAR
VERSION:2.0
PRODID:-//ZContent.net//ZapCalLib 1.0//EN
CALSCALE:GREGORIAN
METHOD:PUBLISH
BEGIN:VEVENT
SUMMARY:Mëttesdësch
DTSTART:20190129T120000
DTEND:20190129T150000
LOCATION:Centre Culturel Paul Barblé, entrée rue des Romains, Strassen
X-ALT-DESC;FMTTYPE=text/html:<p>Le Collège des Bourgmestre et Échvins de 
 la Commune de Strassen en collaboration avec le Club Senior et le Centre p
 our personnes âgées "Riedgen" vous invite au Mëttesdësch.</p>\n\n<p> 
 </p>\n\n<p><strong>Menu:</strong></p>\n\n<p>Soupe<br />\nCordon bleu crèm
 e champignons<br />\nIle flottante</p>\n\n<p>Prix: 15 €<br />\n(boissons
  et café inclus)</p>\n\n<p> </p>\n\n<p><strong>Inscription juqu'au 24.01
 .2019 au 310 262-407</strong></p>\n\n<p> </p>\n\n<p><strong>Inauguration 
 des locaux du Club Senior</strong><br />\nAprès un agrandissement et un n
 ouvel aménagement des locaux du Club Senior, le Mëttesdësch sera suivi 
 par l’inauguration officielle à 14.30 heures. Soyez les bienvenus!</p>
UID:2020-01-25-10-13-04
DTSTAMP:20200125T091304
END:VEVENT
END:VCALENDAR
