BEGIN:VCALENDAR
VERSION:2.0
PRODID:-//ZContent.net//ZapCalLib 1.0//EN
CALSCALE:GREGORIAN
METHOD:PUBLISH
BEGIN:VEVENT
SUMMARY:Exposition Marina Herber
DTSTART:20190205T190000
DTEND:20190217T183000
LOCATION:Galerie "A Spiren", 203, route d'Arlon, Strassen
X-ALT-DESC;FMTTYPE=text/html:<p>Le collège des bourgmestre et échevins de
  la commune de Strassen, en collaboration avec la commission de la culture
 ,<br />\nvous invite au vernissage de l’exposition qui aura lieu à la G
 alerie A Spiren MARDI, 5 février 2019 à 19h00.</p>\n\n<p><br />\nL’exp
 osition est ouverte tous les jours de 14h30 à 18h30 sauf le lundi.</p>
UID:2020-01-25-09-12-30
DTSTAMP:20200125T081230
END:VEVENT
END:VCALENDAR
