BEGIN:VCALENDAR
VERSION:2.0
PRODID:-//ZContent.net//ZapCalLib 1.0//EN
CALSCALE:GREGORIAN
METHOD:PUBLISH
BEGIN:VEVENT
SUMMARY:Ellergronn - Fossilien
DTSTART:20190309T150000
DTEND:20190309T170000
LOCATION:
X-ALT-DESC;FMTTYPE=text/html:<p>Wie echte Palaontologen werden wir in diese
 m Workshop mithilfe von Pinseln Fossilien freilegen die seit mehreren Mill
 ionen von Jahren im Sand verborgen sind. Mit praktischen Übungen machen w
 ir uns mit den Reinigungstechniken verschiedener Fossilien vertraut. Sobal
 d die Arbeit auf dem Terrain beendet ist, wird ein Fossil mit Geduld und e
 inem Eisennagel gereinigt. Die Teilnehmer konnen em bearbeitetes Fossil mi
 t nach Hause nehmen.</p>\n\n<p> </p>\n\n<p>Dégagement des fossiles.</p>\
 n\n<p>Comme des vrais paléontologues, nous dégageons à l'aide de pincea
 ux, des fossiles cachés depuis plusieurs millions<br />\nd'années dans l
 e sable. Avec des exercices pratiques, nous apprenons dans cet atelier à 
 connaître les techniques de<br />\nnettoyage de différents fossiles. Une
  fois terminé le travail de terrain, un fossile sera nettoyé avec patien
 ce et un clou en fer. Les participants peuvent ramener chez eux leurs foss
 iles purifiés.</p>\n\n<p> </p>\n\n<p><a href="mailto:ellergronn@anf.etat
 .lu"><strong>Anmeldung obligatorisch / inscription obligatoire</strong></a
 ></p>
UID:2020-01-25-10-08-21
DTSTAMP:20200125T090821
END:VEVENT
END:VCALENDAR
