BEGIN:VCALENDAR
VERSION:2.0
PRODID:-//ZContent.net//ZapCalLib 1.0//EN
CALSCALE:GREGORIAN
METHOD:PUBLISH
BEGIN:VEVENT
SUMMARY:Mëttesdësch
DTSTART:20190312T120000
DTEND:20190312T150000
LOCATION:Centre Culturel Paul Barblé, entrée rue des Romains, Strassen
X-ALT-DESC;FMTTYPE=text/html:<p>Le Collège des Bourgmestre et Échvins de 
 la Commune de Strassen en collaboration avec le Club Senior et le Centre p
 our personnes âgées "Riedgen" vous invite au Mëttesdësch.</p>\n\n<p> 
 </p>\n\n<p><strong>Menu:</strong></p>\n\n<p>Soupe<br />\nWäinzoossiss mat
  Moschterzooss<br />\nCrème ananas</p>\n\n<p>Prix: 15 €<br />\n(boisson
 s et café inclus)</p>\n\n<p> </p>\n\n<p><strong>Inscription juqu'au 07.0
 3.2019 au 310 262-407</strong></p>
UID:2020-01-25-10-06-51
DTSTAMP:20200125T090651
END:VEVENT
END:VCALENDAR
