BEGIN:VCALENDAR
VERSION:2.0
PRODID:-//ZContent.net//ZapCalLib 1.0//EN
CALSCALE:GREGORIAN
METHOD:PUBLISH
BEGIN:VEVENT
SUMMARY:Kufika
DTSTART:20190324T110000
DTEND:20190324T130000
LOCATION:Centre Culturel Paul Barblé, entrée rue des Romains, Strassen
X-ALT-DESC;FMTTYPE=text/html:<p><strong>MenschMusikMacher - eine interaktiv
 e Klangreise um die Welt</strong><br />\nAls erfahrener Reiseleiter hat Mi
 chael Bradke nicht nur Gitarre und Darbouka im Gepäck, sondern zeigt, wie
  in aller Welt mit Händen, Fingern, Wangen, Kopf und Mund Musik gemacht w
 ird. Die sinnlich vergnügliche Reise geht nach Spanien, Indien, Afrika, N
 ordpol, Amerika und in die Südsee. Auf dem Weg erleben und erlernen die R
 eisenden musikalische Spiele, Musik, Tänze, und KlatschKultur rund um die
  Welt.<br />\nTeilnehmen können Familien mit Kindern ab 4 Jahren.<br />\n
 Dauer: 50 Minuten</p>\n\n<p> </p>\n\n<p><strong>MenschMusikMacher - un vo
 yage musical autour du monde</strong><br />\nGuide de voyage chevronné, a
 vec sa guitare et sa darbourka dans son sac, Michael Bradke nous montrera 
 comment la musique est jouée autour du monde avec les mains, les doigts, 
 les joues, la tête et la bouche. Le voyage nous emmènera en Espagne, en 
 Inde, en Afrique et au Pôle Nord, en passant par l’Amérique et les mer
 s du Sud. Sur le chemin, les voyageurs découvriront des jeux musicaux, de
  la musique, des danses et des cancans des quatre coins du monde.<br />\nL
 e voyage est ouvert aux enfants à p. de 4 ans, accompagnés de leur famil
 le.</p>\n\n<p>Durée : 50 min.</p>\n\n<p> </p>\n\n<p> </p>\n\n<p>Obligat
 orische Anmeldung / Inscription obligatoire <a href="mailto:luiza.sosna@st
 rassen.lu">email</a> oder 310 262 - 270 bei Frau SOSNA.</p>
UID:2020-01-25-10-17-08
DTSTAMP:20200125T091708
END:VEVENT
END:VCALENDAR
