BEGIN:VCALENDAR
VERSION:2.0
PRODID:-//ZContent.net//ZapCalLib 1.0//EN
CALSCALE:GREGORIAN
METHOD:PUBLISH
BEGIN:VEVENT
SUMMARY:Bicherbus
DTSTART:20190424T134500
DTEND:20190424T141500
LOCATION:Ecole primaire "Hueflach", 11, rue du Cimetière, Strassen
X-ALT-DESC;FMTTYPE=text/html:<p>De Bicherbus kënnt haut vun 13:45 - 14:15 
 bei d'Schoul Hueflach.</p>\n\n<p>De Bicherbus ass eng GRATIS Initiative vu
 m Ministère de la Culture.<br />\n<br />\nDir hutt de Choix tëschent 80.
 000 Bicher aus allen Domänen. Déi meeschte Bicher sinn fir Kanner a Juge
 ndlecher. 90% vun de Cliente léinen däitsch Bicher. Duerfir sinn déi me
 eschte Bicher och op däitscher Sprooch.<br />\n<br />\nDir fannt och Bich
 er op franzéischer, lëtzbuergescher an änglescher Sprooch.</p>
UID:2020-01-25-10-14-54
DTSTAMP:20200125T091454
END:VEVENT
END:VCALENDAR
