BEGIN:VCALENDAR
VERSION:2.0
PRODID:-//ZContent.net//ZapCalLib 1.0//EN
CALSCALE:GREGORIAN
METHOD:PUBLISH
BEGIN:VEVENT
SUMMARY:Kufika
DTSTART:20190428T110000
DTEND:20190428T130000
LOCATION:Centre Culturel Paul Barblé, entrée rue des Romains, Strassen
X-ALT-DESC;FMTTYPE=text/html:<p><strong>Die Hexe Knallpurga will mit ihrem 
 Flugbesen „Pilatuß Appsturtz“ zum Mond fliegen. Leider verfl iegt sie
  sich und landet auf einem Seil. Was ist das für ein komischer Planet? Ei
 n wackliges, spannendes und waghalsiges Abenteuer <strong>beginnt.</strong
 ></strong></p>\n\n<p> </p>\n\n<p><em>La sorcière Knallpurga veut s’env
 oler vers la lune avec son balai volant « Pilatuß Appsturtz ». Malheure
 usement, elle prend le mauvais chemin et atterrit sur une corde. Quelle es
 t cette planète étrange ? Une aventure branlante, excitante et</em></p>\
 n\n<p><em>téméraire commence.</em></p>\n\n<p> </p>\n\n<p>The witch Knal
 lpurga wants to fl y to the moon with her flying broom “Pilatuss Appstur
 tz”. Unfortunately, she takes a wrong turn and lands on a rope. What's t
 hat weird planet? A shaky, exciting and daring adventure begins.</p>\n\n<p
 > </p>\n\n<p><strong>Inscription obligatoire :</strong></p>\n\n<p><strong
 >Tel. :</strong> 31 02 62 – 270</p>\n\n<p><strong>E-mail :</strong> <a h
 ref="mailto:luiza.sosna@strassen.lu">luiza.sosna@strassen.lu</a></p>\n\n<p
 > </p>
UID:2020-01-25-10-16-32
DTSTAMP:20200125T091632
END:VEVENT
END:VCALENDAR
