BEGIN:VCALENDAR
VERSION:2.0
PRODID:-//ZContent.net//ZapCalLib 1.0//EN
CALSCALE:GREGORIAN
METHOD:PUBLISH
BEGIN:VEVENT
SUMMARY:White Dinner Strassen
DTSTART:20190614T183000
DTEND:20190614T235900
LOCATION:Centre Culturel Paul Barblé, entrée rue des Romains, Strassen
X-ALT-DESC;FMTTYPE=text/html:<p><strong>Genéisst e flotten Owend mat Frën
 n, Famill an Nooperen déi all wäiss ugedoen sinn.</strong></p>\n\n<p> <
 /p>\n\n<p><em>Profitez d’une merveilleuse soirée en blanc entre amis, f
 amille et voisins.</em></p>\n\n<p> </p>\n\n<p>Enjoy a wonderful evening w
 ith friends, family and neighbors all dressed up in white.</p>\n\n<p> </p
 >\n\n<p><strong>Dresscode: WHITE</strong></p>\n\n<p>Food trucks : <a href=
 "https://greenmango.lu/" target="_blank">Green Mango </a>, <a href="http:/
 /pizzalux.lu/accueil.html" target="_blank">Pizza Lux</a>, <a href="http://
 letzeburger.lu/" target="_blank">LetzeBurger</a>, <a href="https://www.fac
 ebook.com/biopan08/" target="_blank">BioPan08</a>, <a href="https://www.fa
 cebook.com/AnnaPaulLuxembourg/" target="_blank">Anna & Paul Glacerie et Ch
 ocolaterie</a></p>\n\n<p>Photobooth</p>\n\n<p>Cocktails</p>\n\n<p>Entertai
 nment for children</p>\n\n<p> </p>\n\n<p><strong>Ouni Umeldung.</strong> 
 <em>Sans inscription. </em>No registration needed.</p>
UID:2020-01-25-10-15-55
DTSTAMP:20200125T091555
END:VEVENT
END:VCALENDAR
