BEGIN:VCALENDAR
VERSION:2.0
PRODID:-//ZContent.net//ZapCalLib 1.0//EN
CALSCALE:GREGORIAN
METHOD:PUBLISH
BEGIN:VEVENT
SUMMARY:Exposition Juliette Haag et Jean-Paul Thiefels
DTSTART:20190618T190000
DTEND:20190630T000000
LOCATION:Galerie "A Spiren", 203, route d'Arlon, Strassen
X-ALT-DESC;FMTTYPE=text/html:<p>Vernissage: 18 juin 2019 à 19h00</p>\n\n<p
 >Exposition du 19 au 30 juin de 14h30 à 18h30 (fermé le lundi)</p>
UID:2020-01-25-10-15-41
DTSTAMP:20200125T091541
END:VEVENT
END:VCALENDAR
