BEGIN:VCALENDAR
VERSION:2.0
PRODID:-//ZContent.net//ZapCalLib 1.0//EN
CALSCALE:GREGORIAN
METHOD:PUBLISH
BEGIN:VEVENT
SUMMARY:Fête scolaire
DTSTART:20190706T100000
DTEND:20190706T140000
LOCATION:
X-ALT-DESC;FMTTYPE=text/html:<p>Le collège des Bourgmestre et Echevins de 
 la commune de Strassen en collaboration avec l'Elterevereenegung Stroossen
  a le plaisir de vous inviter à la <strong>fête scolaire </strong>qui au
 ra lieu</p>\n\n<p>samedi 6 juillet de 10h00 à 14h00</p>\n\n<p>sur le camp
 us scolaire</p>\n\n<p>Jeux, tombola, animations</p>\n\n<p>Concerts à part
 ir de 12h00</p>\n\n<p>Grillades, boissons, desserts</p>
UID:2020-01-25-10-14-41
DTSTAMP:20200125T091441
END:VEVENT
END:VCALENDAR
