BEGIN:VCALENDAR
VERSION:2.0
PRODID:-//ZContent.net//ZapCalLib 1.0//EN
CALSCALE:GREGORIAN
METHOD:PUBLISH
BEGIN:VEVENT
SUMMARY:Emweltnomëtteger fir Kanner
DTSTART:20190706T093000
DTEND:20190706T120000
LOCATION:
X-ALT-DESC;FMTTYPE=text/html:<p>Fir Kanner vum Zykel 2. bis 4.: « Strategi
 espill » Samschdeg, den 06.07.2019 zu Stroossen um Parking vum Fräiheets
 bam.</p>\n\n<p> </p>\n\n<p><u><strong>Obligatoresch Umeldung</strong></u>
 . Détailer fann dir am Flyer.</p>
UID:2020-01-25-10-06-40
DTSTAMP:20200125T090640
END:VEVENT
END:VCALENDAR
