BEGIN:VCALENDAR
VERSION:2.0
PRODID:-//ZContent.net//ZapCalLib 1.0//EN
CALSCALE:GREGORIAN
METHOD:PUBLISH
BEGIN:VEVENT
SUMMARY:Emweltnomëtteger fir Kanner
DTSTART:20190717T100000
DTEND:20190717T150000
LOCATION:
X-ALT-DESC;FMTTYPE=text/html:<p>Fir Kanner vum Zykel 2. bis 4.: « En Dag a
 m Bësch » Samschdeg, den 17.07.2019 zu Stroossen um Parking vum Fräihee
 tsbam.</p>\n\n<p> </p>\n\n<p><u><strong>Obligatoresch Umeldung</strong></
 u>. Détailer fann dir am Flyer.</p>
UID:2020-01-25-10-05-31
DTSTAMP:20200125T090531
END:VEVENT
END:VCALENDAR
