BEGIN:VCALENDAR
VERSION:2.0
PRODID:-//ZContent.net//ZapCalLib 1.0//EN
CALSCALE:GREGORIAN
METHOD:PUBLISH
BEGIN:VEVENT
SUMMARY:KufiKa - Kultur fir Kanner
DTSTART:20191006T110000
DTEND:20191006T130000
LOCATION:Centre Culturel Paul Barblé, entrée rue des Romains, Strassen
X-ALT-DESC;FMTTYPE=text/html:<p><strong>Zaubershow - Maxim Maurice</strong>
 </p>\n\n<p>Ein Tisch der fliegen kann, Assistentinnen die in der Luft schw
 eben, Gegenstände die verschwinden und auf ungewöhnlichen Orten wieder a
 uftauchen... lassen Sie sich von Ilusionen hinters Licht führen und von d
 en magischen Fähigkeiten von Maxim Maurice, deutscher Vizemeister der Gro
 ßillusionen, verzaubern.</p>\n\n<p>Ein Spektakel für die ganze Familie b
 ei dem Kinder fleissig mitzaubern können.</p>\n\n<p>Dauer der Aufführung
 : 60 Minuten. In deutscher Sprache. </p>\n\n<p> </p>\n\n<p><em>Spectacle
  de magie – Maxim Maurice</em></p>\n\n<p><em>Une table volante, une assi
 stante qui flotte dans les airs, des objets qui disparaissent et réappara
 issent dans des lieux insolites ... laissez-vous surprendre par des illusi
 ons et laissez-vous envoûter par la magie de Maxim Maurice, vice-champion
  allemand des grandes illusions.</em></p>\n\n<p><em>Un spectacle pour tout
 e la famille dans lequel les enfants peuvent participer activement.</em></
 p>\n\n<p><em>Durée du spectacle: 60 minutes. Le spectacle est en allemand
 . </em></p>\n\n<p> </p>\n\n<p><strong>Magic Show - Maxim Maurice</strong
 ></p>\n\n<p>A flying table, a floating assistant in mid-air, objects that 
 disappear and reappear in unusual places ... let yourself be fooled by ill
 usions and bewitched by the magical abilities of Maxim Maurice, German run
 ner-up of large scale illusions.</p>\n\n<p>A show for the whole family in 
 which children can actively participate.</p>\n\n<p>Duration of the show: 6
 0 minutes. The show is in German. </p>\n\n<p> </p>\n\n<p>Anmeldung / Ins
 cription / Registartion  <a href="mailto:luiza.sosna@strassen.lu">email<
 /a> </p>
UID:2020-01-25-10-10-44
DTSTAMP:20200125T091044
END:VEVENT
END:VCALENDAR
