BEGIN:VCALENDAR
VERSION:2.0
PRODID:-//ZContent.net//ZapCalLib 1.0//EN
CALSCALE:GREGORIAN
METHOD:PUBLISH
BEGIN:VEVENT
SUMMARY:"CÃ©lÃ©brons 100 ans de dÃ©mocratie au fÃ©minin !" â€“ Exposition Ã
   l'occasion du centenaire du droit de vote des femmes au Luxembourg
DTSTART:20191119T190000
DTEND:20191122T183000
LOCATION:Galerie "A Spiren", 203, route d'Arlon, Strassen
X-ALT-DESC;FMTTYPE=text/html:<p>Vernissage le 19Â novembre Ã  19h00</p>\n\n
 <p>Exposition du 20Â auÂ Â 22 novembre 2019Â </p>\n\n<p>Lâ€™exposition est
  ouverte tous les jours de 14h30 Ã  18h30.</p>\n\n<p>Â </p>\n\n<p>"De Wahl
 sproch ass EgalitÃ©it" - WÃ©i et virun 100 Joer zur AfÃ©ierung vum Fraewah
 lrecht koum</p>\n\n<p>ConfÃ©rence animÃ© par Mme RenÃ©e Wagener: 19 novemb
 re 2019 Ã  19:00</p>\n\n<p>Â </p>\n\n<p>Pour plus de dÃ©tails, veuillez co
 nsulter le <a href="https://www.strassen.lu/media/5d9b59de44358_brochure-1
 00-ans-de-democratie-au-feminin.pdf">dÃ©pliant</a>.</p>\n\n<p>Â </p>\n\n<p
 >Â </p>\n\n<p><strong>ContactÂ :</strong></p>\n\n<p>E-mailÂ : <a href="mai
 lto:luiza.sosna@strassen.lu?subject=C%C3%A9l%C3%A9brons%20100%20ans%20de%2
 0d%C3%A9mocratie%20au%20f%C3%A9minin%20!">luiza.sosna@strassen.lu</a></p>\
 n\n<p>Â </p>\n\n<p><strong>OrganisationÂ : </strong></p>\n\n<p>Commune de 
 Strassen</p>\n\n<p>Commission de lâ€™Ã©galitÃ© des chances</p>\n\n<p>Â </p
 >
UID:2020-01-25-10-08-10
DTSTAMP:20200125T090810
END:VEVENT
END:VCALENDAR
