BEGIN:VCALENDAR
VERSION:2.0
PRODID:-//ZContent.net//ZapCalLib 1.0//EN
CALSCALE:GREGORIAN
METHOD:PUBLISH
BEGIN:VEVENT
SUMMARY:Exposition Jacqueline Grasset & Mireille Ménégoz
DTSTART:20191210T190000
DTEND:20191222T183000
LOCATION:Galerie "A Spiren", 203, route d'Arlon, Strassen
X-ALT-DESC;FMTTYPE=text/html:<p>Vernissage le 10 décembre 2019 </p>\n\n<p
 >à 19h00 </p>\n\n<p> </p>\n\n<p>Exposition du 11 au 22 décembre 2019 
 </p>\n\n<p>de 14h30 à 18h30 (fermé le lundi)<br />\n </p>\n\n<p> </p>
UID:2020-01-25-10-06-18
DTSTAMP:20200125T090618
END:VEVENT
END:VCALENDAR
