BEGIN:VCALENDAR
VERSION:2.0
PRODID:-//ZContent.net//ZapCalLib 1.0//EN
CALSCALE:GREGORIAN
METHOD:PUBLISH
BEGIN:VEVENT
SUMMARY:Déchets organiques / Bioabfall
DTSTART:20200203T000000
DTEND:20201228T000000
LOCATION:
X-ALT-DESC;FMTTYPE=text/html:
UID:2020-12-09-04-35-20
DTSTAMP:20201209T033520
END:VEVENT
END:VCALENDAR
