BEGIN:VCALENDAR
VERSION:2.0
PRODID:-//ZContent.net//ZapCalLib 1.0//EN
CALSCALE:GREGORIAN
METHOD:PUBLISH
BEGIN:VEVENT
SUMMARY:SuperDrecksKëscht
DTSTART:20200423T073000
DTEND:20200423T133000
LOCATION:
X-ALT-DESC;FMTTYPE=text/html:
UID:2020-04-22-09-39-11
DTSTAMP:20200422T073911
END:VEVENT
END:VCALENDAR
