BEGIN:VCALENDAR
VERSION:2.0
PRODID:-//ZContent.net//ZapCalLib 1.0//EN
CALSCALE:GREGORIAN
METHOD:PUBLISH
BEGIN:VEVENT
SUMMARY:Maart zu Stroossen
DTSTART:20200612T160000
DTEND:20200612T190000
LOCATION:Centre Culturel Paul BarblÃ©, entrÃ©e rue des Romains, Strassen
X-ALT-DESC;FMTTYPE=text/html:<p>MarchÃ©Â bimensuel chaque 2e 4e vendredi du
  mois au parking du Centre Culturel Paul BarblÃ©.Â </p>\n\n<p>Â </p>\n\n<u
 l>\n	<li>fruits et lÃ©gumes</li>\n	<li>pain traditionnelÂ </li>\n	<li>vian
 de du terroir</li>\n	<li>olives et antipastiÂ </li>\n	<li>pÃ¢tes et pizzaÂ
  </li>\n	<li>mielÂ </li>\n	<li>nourriture pour chiensÂ </li>\n	<li>fromage
  et produits laitiers ... et beaucoup plus encore.Â </li>\n</ul>
UID:2020-04-22-09-39-49
DTSTAMP:20200422T073949
END:VEVENT
END:VCALENDAR
