BEGIN:VCALENDAR
VERSION:2.0
PRODID:-//ZContent.net//ZapCalLib 1.0//EN
CALSCALE:GREGORIAN
METHOD:PUBLISH
BEGIN:VEVENT
SUMMARY:Klima- an Naturschutz an Ärer Gemeng
DTSTART:20201211T140000
DTEND:20201211T160000
LOCATION:E-learning
X-ALT-DESC;FMTTYPE=text/html:<p><strong>Eng virtuell Konferenz mam Carole D
 ieschbourg zum neien Naturpakt a Klimapakt 2.0</strong><br />\nD’Ministe
 sch fir Ëmwelt, Klima an nohalteg Entwécklung an de Schäfferot vu Stroo
 ssen invitéieren Iech op eng virtuell Presentatioun vum neien Naturpakt a
  vum Klimapakt 2.0.</p>\n\n<p> </p>\n\n<p><strong>Wéini </strong>: Freid
 en 11. Dezember 2020 vun 14:00 bis 16:00 Auer<br />\n<strong>Wou :</strong
 > Iwwer Livestream um Internetsite <a href="https://environnement.public.l
 u/fr.html" target="_blank">www.emwelt.lu</a> an op der <a href="https://ww
 w.facebook.com/Minist%C3%A8re-de-lEnvironnement-du-Climat-et-du-D%C3%A9vel
 oppement-durable-111157800548192" target="_blank">Facebooksäit vum Ëmwel
 tministère</a></p>\n\n<p> </p>\n\n<p><strong>Um Programm :</strong></p>\
 n\n<ul>\n	<li>Presentatioun vum Naturpakt a vum Klimapakt 2.0</li>\n	<li>D
 iskussioun op Basis vun Äre Froen oder Reflexiounen déi iwwer Email live
  kënnen era geschéckt ginn</li>\n</ul>
UID:2020-12-09-04-34-21
DTSTAMP:20201209T033421
END:VEVENT
END:VCALENDAR
