BEGIN:VCALENDAR
VERSION:2.0
PRODID:-//ZContent.net//ZapCalLib 1.0//EN
CALSCALE:GREGORIAN
METHOD:PUBLISH
BEGIN:VEVENT
SUMMARY:Maart zu Stroossen
DTSTART:20201211T160000
DTEND:20201211T190000
LOCATION:Centre Culturel Paul Barblé, entrée rue des Romains, Strassen
X-ALT-DESC;FMTTYPE=text/html:<p>Marché bimensuel chaque 2e et 4e vendredi
  du mois au parking du Centre Culturel Paul Barblé. </p>\n\n<p> </p>\n\
 n<p>Soutenez la bonne cause et découvrez le stand du comité d'organisati
 on du <a href="https://www.facebook.com/televiestroossen/" target="_blank"
 >Centre de Promesses Strassen pour le Télévie </a>avec plein d'articles 
 et de gadgets. Les dons sont versés au profit de <a href="https://televie
 .rtl.lu/" target="_blank">Télévie Luxembourg</a>. </p>\n\n<p> </p>\n\n
 <p>Le port d’une protection buccale (masque, écharpe ou buff) est oblig
 atoire lors du marché.</p>
UID:2020-12-09-04-34-52
DTSTAMP:20201209T033452
END:VEVENT
END:VCALENDAR
