BEGIN:VCALENDAR
VERSION:2.0
PRODID:-//ZContent.net//ZapCalLib 1.0//EN
CALSCALE:GREGORIAN
METHOD:PUBLISH
BEGIN:VEVENT
SUMMARY:Bicherbus
DTSTART:20210106T130000
DTEND:20210106T135500
LOCATION:
X-ALT-DESC;FMTTYPE=text/html:<p>De Bicherbus ass eng GRATIS Initiative vum 
 Ministère de la Culture.<br />\nDir hutt de Choix tëschent 80.000 Bicher
  aus allen Domänen. Déi meeschte Bicher sinn fir Kanner a Jugendlecher. 
 90% vun de Cliente léinen däitsch Bicher. Duerfir sinn déi meeschte Bic
 her och op däitscher Sprooch.<br />\nDir fannt och Bicher op franzéische
 r, lëtzbuergescher an änglescher Sprooch.</p>\n\n<p> </p>\n\n<p><strong
 >Eng Reservatioun am Viräus iwwer <a href="https://a-z.lu/primo-explore
 /search?vid=BIBNET&tab=all_content&lang=fr_FR" target="_blank">a-z.lu </a
 >vun den Dokumenter gëtt recommandéiert. D'sanitär Mesuren an d'Geste-
 barrièren mussen am Bicherbus respektéiert ginn. </strong></p>\n\n<p> 
 </p>\n\n<p><em>La réservation préalable via <a href="https://a-z.lu/pri
 mo-explore/search?vid=BIBNET&tab=all_content&lang=fr_FR" target="_blank">a
 -z.lu</a> des documents est recommandée. Pendant la visite du Bicherbus,
  les mesures sanitaires et les gestes barrière sont à respecter .</em><
 /p>\n\n<p> </p>\n\n<p>A prior reservation via <a href="https://a-z.lu/pr
 imo-explore/search?vid=BIBNET&tab=all_content&lang=fr_FR" target="_blank">
 a-z.lu</a> of the documents is recommended. The hygiene and social distan
 cing measures have to be respected during the visit of the Bicherbus.</p>
UID:2020-12-09-04-36-03
DTSTAMP:20201209T033603
END:VEVENT
END:VCALENDAR
