BEGIN:VCALENDAR
VERSION:2.0
PRODID:-//ZContent.net//ZapCalLib 1.0//EN
CALSCALE:GREGORIAN
METHOD:PUBLISH
BEGIN:VEVENT
SUMMARY:Maart zu Stroossen
DTSTART:20210423T160000
DTEND:20210423T190000
LOCATION:Centre Culturel Paul BarblÃ©, entrÃ©e rue des Romains, Strassen
X-ALT-DESC;FMTTYPE=text/html:<p><strong>TÃ©lÃ©vie Centre de Promesses Stras
 senÂ </strong></p>\n\n<p>Soutenez la bonne cause et dÃ©couvrez le stand du
  comitÃ© d'organisation du <strong><a href="https://www.facebook.com/telev
 iestroossen" target="_blank">Centre de Promesses Strassen</a> pour le TÃ©l
 Ã©vie</strong> avec plein d'articles et de gadgets. Les dons sont versÃ©s 
 au profit de <a href="https://televie.rtl.lu/" target="_blank">TÃ©lÃ©vie L
 uxembourg.Â </a></p>\n\n<p>Â </p>\n\n<p><strong>Animation pour enfants: pÃ
 ªche aux canardsÂ </strong></p>\n\n<p>Â </p>\n\n<p>Zwee mol de Mount ass M
 aart zu Stroossen wou Dir <strong>frÃ«sch, alternatif, ecologesch an nohal
 teg Produiten</strong> ze kaafe kritt.</p>\n\n<p><strong>All 2. a 4. Freid
 en am Mount</strong> um Parking vum Centre Culturel Paul BarblÃ©.</p>\n\n<
 p>- Uebst a GemÃ©is</p>\n\n<p>- Traditionnelt Brout</p>\n\n<p>- Fleesch Pr
 oduit du Terroir</p>\n\n<p>- Oliven an Antipasti</p>\n\n<p>- Nuddelen a Pi
 zza</p>\n\n<p>- Hunneg</p>\n\n<p>-Â <!-- x-tinymce/html -->BlummenÂ & Deko
 ratiounÂ </p>\n\n<p>- SÃ©issegkeeten, NÃ«ss, Nougat, Schockela, etc</p>\n\
 n<p><strong>Dâ€™Droen vun engem Mond- Nuesschutz(Mask, Schal oder Buff) as
 s um Maart obligatoresch.</strong></p>\n\n<p>Â </p>\n\n<p>Â </p>\n\n<p>Mar
 chÃ©Â bimensuel aux produits<strong> frais, alternatifs, Ã©cologiques et d
 urables</strong></p>\n\n<p><strong>Chaque 2e et 4e vendredi du mois</stron
 g> au parking du Centre Culturel Paul BarblÃ©.Â </p>\n\n<p>- Fruits et lÃ©
 gumes</p>\n\n<p>- Pain traditionnelÂ </p>\n\n<p>- Viande du terroir</p>\n\
 n<p>- Olives et antipastiÂ </p>\n\n<p>- PÃ¢tes et pizzaÂ </p>\n\n<p>- Miel
 Â </p>\n\n<p>- FleursÂ & DÃ©corations</p>\n\n<p>- ConfiserieÂ </p>\n\n<p><
 strong>Le port dâ€™une protection buccale (masque, Ã©charpe ou buff) est o
 bligatoire lors du marchÃ©.Â </strong></p>\n\n<p>Â </p>\n\n<p>Â </p>\n\n<p
 >Bimonthly market of <strong>fresh, alternative, ecological and sustainabl
 e products</strong></p>\n\n<p><strong>Every 2nd and 4th Friday of the mont
 h</strong>Â atÂ the car park of the Cultural Center Paul BarblÃ©.</p>\n\n<
 p>- Fruits and vegetables</p>\n\n<p>- Traditional bread</p>\n\n<p>- Local 
 meat</p>\n\n<p>- Olives and antipasti</p>\n\n<p>- Pasta and pizza</p>\n\n<
 p>- Honey</p>\n\n<p>- Flowers & Decorations</p>\n\n<p>- Candy Store</p>\n\
 n<p><strong>Wearing mouth protection (mask, scarf or buff) is compulsory a
 t the market.</strong></p>
UID:2021-04-20-19-18-10
DTSTAMP:20210420T171810
END:VEVENT
END:VCALENDAR
