BEGIN:VCALENDAR
VERSION:2.0
PRODID:-//ZContent.net//ZapCalLib 1.0//EN
CALSCALE:GREGORIAN
METHOD:PUBLISH
BEGIN:VEVENT
SUMMARY:CafÃ© de Babel
DTSTART:20210510T190000
DTEND:20210510T210000
LOCATION:Centre Culturel Paul BarblÃ©, entrÃ©e rue des Romains, Strassen
X-ALT-DESC;FMTTYPE=text/html:<p>Dâ€™Stroossener Gemeng invitÃ©iert Iech hÃ¤
 erzlech op de <strong>CafÃ© de Babel an engem neie Format.</strong> Â Et g
 inn eng Rei u fixen DÃ«scher mat Sproochen a verschiddenen Niveauen, dÃ©i 
 Ã«mmer ugebuede ginn (LÃ«tzebuergesch, FransÃ©isch an Englesch). <strong>A
 ll Mount kÃ«nnt eng Sprooch dobÃ¤i, dÃ©i ofwiesselt</strong> wÃ©i z.B DÃ¤i
 tsch, Spuenesch, Italieenesch oder Chineesesch.</p>\n\n<p>Â </p>\n\n<p>Am 
 CafÃ© de Babel kÃ«nnt Dir folgend Sproochen Ã¼ben:</p>\n\n<p>1. LÃ«tzebuer
 gesch (minimum Niveau A 1 ofgeschloss)</p>\n\n<p>2. LÃ«tzebuergesch (minim
 um Niveau A 2 ofgeschloss)</p>\n\n<p>3. FransÃ©isch (minimum Niveau A 1 of
 geschloss)</p>\n\n<p>4. Englesch (minimum Niveau A 1 ofgeschloss)</p>\n\n<
 p>5. <strong>Spuenesch</strong>Â (minimum Niveau A 1 ofgeschloss)</p>\n\n<
 p>Â </p>\n\n<p>WÃ©inst der aktueller Situatioun sinn dâ€˜Plazen op <strong
 >4 Persoune pro DÃ«sch limitÃ©iert</strong>. Dâ€˜Plaze ginn nom Prinzip â€
 žden Ã©ischten ass virâ€œ verdeelt. <strong>COVID-19 Schnelltester sinnÂ o
 p der Plaz disponibel.</strong></p>\n\n<p>DÃ©i sanitÃ¤r Moossnamen, dÃ©i z
 u deem Moment a Kraaft sinn, musse respektÃ©iert ginn an dâ€˜<strong>Droe 
 vun enger Mask ass obligatoresch.</strong></p>\n\n<p>Â </p>\n\n<p><strong>
 Dâ€˜Umeldung</strong> per E-Mail u <a href="mailto:liette.bour@strassen.lu
 ?subject=Caf%C3%A9%20de%20Babel">liette.bour@strassen.lu</a>Â  <strong>ass
  obligatoresch</strong> a leeft bis freides virun der nÃ¤chster Editioun v
 um CafÃ© de Babel. PrÃ¤zisÃ©iert wgl. bei der Umeldung dâ€˜<strong>Sprooch
  an den Niveau</strong>, deen Dir praktizÃ©iere wÃ«llt.</p>\n\n<p>Â </p>\n
 \n<p style="text-align: center;">***</p>\n\n<p>Â </p>\n\n<p>La commune de 
 Strassen vous invite chaleureusement au <strong>CafÃ© de Babel, sous un no
 uveau format.</strong> On y trouve une rangÃ©e de tables fixes oÃ¹ lâ€™on 
 peut pratiquer Ã  chaque fois les langues luxembourgeoise, franÃ§aise et a
 nglaise Ã  divers niveaux. Ã€ cette offre sâ€™ajoute <strong>chaque mois u
 ne langue supplÃ©mentaire, qui change Ã  chaque Ã©dition, </strong>comme l
 â€™allemand, espagnol, lâ€™italien ou le chinois.</p>\n\n<p>Â </p>\n\n<p>A
 u CafÃ© de Babel, vous pouvez pratiquer les langues suivantesÂ :</p>\n\n<p
 >1. luxembourgeois (minimum requis : avoir atteint le niveau A 1)</p>\n\n<
 p>2. luxembourgeois (minimum requis : avoir atteint le niveau A 2)</p>\n\n
 <p>3. franÃ§ais (minimum requis : avoir atteint le niveau A 1)</p>\n\n<p>4
 . anglais (minimum requis : avoir atteint le niveau A 1)</p>\n\n<p>5. <str
 ong>espagnol</strong>Â (minimum requis : avoir atteint le niveau A 1)</p>\
 n\n<p>Â </p>\n\n<p>En raison de la situation actuelle, le nombre de places
  par table se limite Ã  4. Les places sont rÃ©parties selon le principe Â«
 Â premier arrivÃ©, premier serviÂ Â». <strong>Des testsÂ antigÃ©niquesÂ ra
 pides Covid-19 sont disponibles sur place.</strong> Les mesures sanitaires
  en vigueur doivent Ãªtre respectÃ©es et <strong>le port du masque est obl
 igatoire.</strong></p>\n\n<p>Â </p>\n\n<p>Une <strong>inscription au prÃ©a
 lable est obligatoire</strong> en envoyant un courriel Ã  <a href="mailto:
 liette.bour@strassen.lu?subject=Caf%C3%A9%20de%20Babel">liette.bour@strass
 en.lu</a>. Les inscriptions se clÃ´turent le vendredi prÃ©cÃ©dant la proch
 aine Ã©dition du CafÃ© de Babel. Veuillez prÃ©ciser svp lors de <strong>lâ
 €™inscription quelle langue et quel niveau vous souhaitez mettre en pratiq
 ue.</strong></p>\n\n<p>Â </p>\n\n<p style="text-align: center;">***</p>\n\
 n<p>Â </p>\n\n<p>The municipality of Strassen cordially invites you to <st
 rong>CafÃ© de Babel in a new format.</strong> There is a set of tables wit
 h languages at different levels of difficulty, which are available each ti
 me (Luxembourgish, French, and English). <strong>Every month another langu
 age is added on a rotational basis</strong>, for example German, Spanish, 
 Italian or Chinese.</p>\n\n<p>Â </p>\n\n<p>You can practise the following 
 languages at CafÃ© de Babel:</p>\n\n<p>1. Luxembourgish (at least completi
 on of level A1)</p>\n\n<p>2. Luxembourgish (at least completion of level A
 2)</p>\n\n<p>3. French (at least completion of level A1)</p>\n\n<p>4. Engl
 ish (at least completion of level A1)</p>\n\n<p>5. <strong>Spanish</strong
 >Â (at least completion of level A1)</p>\n\n<p>Â </p>\n\n<p>Due to the cur
 rent situation, the spots at each table are limited to 4. These spots will
  be filled according to the â€žfirst come, first servedâ€œ principle. <str
 ong>COVID-19 rapid antigen test are available on site.</strong> The sanita
 ry measures in place at the time, will have to be respected and <strong>we
 aring a mask is compulsory.</strong></p>\n\n<p>Â </p>\n\n<p><strong>Regist
 ration</strong> via email to <a href="mailto:liette.bour@strassen.lu?subje
 ct=Caf%C3%A9%20de%20Babel">liette.bour@strassen.lu</a> <strong>is mandator
 y</strong> and is open until the Friday before each session of CafÃ© de Ba
 bel. During registration, <strong>please indicate which language youâ€™d l
 ike to practise and at what level of difficulty.</strong></p>\n\n<p>Â </p>
UID:2021-04-20-19-18-27
DTSTAMP:20210420T171827
END:VEVENT
END:VCALENDAR
