BEGIN:VCALENDAR
VERSION:2.0
PRODID:-//ZContent.net//ZapCalLib 1.0//EN
CALSCALE:GREGORIAN
METHOD:PUBLISH
BEGIN:VEVENT
SUMMARY:Maart zu Stroossen
DTSTART:20210514T160000
DTEND:20210514T190000
LOCATION:Centre Culturel Paul Barblé, entrée rue des Romains, Strassen
X-ALT-DESC;FMTTYPE=text/html:<p>Zwee mol de Mount ass Maart zu Stroossen wo
 u Dir <strong>frësch, alternatif, ecologesch an nohalteg Produiten</stron
 g> ze kaafe kritt.</p>\n\n<p><strong>All 2. a 4. Freiden am Mount</strong>
  um Parking vum Centre Culturel Paul Barblé.</p>\n\n<p>- Uebst a Geméis<
 /p>\n\n<p>- Traditionnelt Brout</p>\n\n<p>- Fleesch Produit du Terroir</p>
 \n\n<p>- Oliven an Antipasti</p>\n\n<p>- Nuddelen a Pizza</p>\n\n<p>- Hunn
 eg</p>\n\n<p>- Blummen & Dekoratioun</p>\n\n<p>- Séissegkeeten, Nëss, No
 ugat, Schockela, etc </p>\n\n<p><strong>D’Droen vun engem Mond- Nuessch
 utz(Mask, Schal oder Buff) ass um Maart obligatoresch.</strong></p>\n\n<p 
 style="text-align: center;">***</p>\n\n<p>Marché bimensuel aux <strong>p
 roduits frais, alternatifs, écologiques et durables</strong></p>\n\n<p><s
 trong>Chaque 2e et 4e vendredi du mois</strong> au parking du Centre Cultu
 rel Paul Barblé. </p>\n\n<p>- Fruits et légumes</p>\n\n<p>- Pain tradit
 ionnel </p>\n\n<p>- Viande du terroir</p>\n\n<p>- Olives et antipasti </
 p>\n\n<p>- Pâtes et pizza </p>\n\n<p>- Miel </p>\n\n<p>- Fleurs & déco
 rations </p>\n\n<p>- Confiserie</p>\n\n<p><strong>Le port d’une protect
 ion buccale (masque, écharpe ou buff) est obligatoire lors du marché. <
 /strong></p>\n\n<p style="text-align: center;">***</p>\n\n<p>Bimonthly mar
 ket of <strong>fresh, alternative, ecological and sustainable products</st
 rong></p>\n\n<p><strong>Every 2nd and 4th Friday of the month</strong> at
  the car park of the Cultural Center Paul Barblé.</p>\n\n<p>- Fruits and
  vegetables</p>\n\n<p>- Traditional bread</p>\n\n<p>- Local meat</p>\n\n<p
 >- Olives and antipasti</p>\n\n<p>- Pasta and pizza</p>\n\n<p>- Honey</p>\
 n\n<p>- Flowers & decorations</p>\n\n<p>- Candy store </p>\n\n<p><strong>
 Wearing mouth protection (mask, scarf or buff) is compulsory at the market
 .</strong></p>
UID:2021-04-20-19-18-38
DTSTAMP:20210420T171838
END:VEVENT
END:VCALENDAR
