BEGIN:VCALENDAR
VERSION:2.0
PRODID:-//ZContent.net//ZapCalLib 1.0//EN
CALSCALE:GREGORIAN
METHOD:PUBLISH
BEGIN:VEVENT
SUMMARY:De Stroossener BÃ«sch gÃ«schter an haut
DTSTART:20210516T090000
DTEND:20210516T120000
LOCATION:Chalet beim FrÃ¤iheetsbam, CR 181, Strassen
X-ALT-DESC;FMTTYPE=text/html:<p>Grenzsteine aus dem Jahr 1772, HÃ¼gelgrÃ¤be
 r, Ã¼ber 150 Jahre alte Buchen und Eichen zeugen von lÃ¤ngst vergangenen T
 agen. Ein Wasserbecken, Gas- und Wasserleitungen sind Spuren der Gegenwart
  in unserem Wald. Auch die Forstwirtschaft hat sich im Laufe der Zeit gewa
 ndelt.</p>\n\n<p style="text-align: center;">***Â </p>\n\n<p><strong>La fo
 rÃªt de Strassen hier et aujourdâ€™hui</strong></p>\n\n<p>Des bornes de 17
 72, des tumuli, des hÃªtres et des chÃªnes Ã¢gÃ©s de plus de 150 ans sont 
 des tÃ©moins du passÃ©. Un rÃ©servoir dâ€™eau, des conduites de gas et dâ€
 ™eau sont des traces du prÃ©sent dans notre forÃªt. La sylviculture a Ã©ga
 lement Ã©voluÃ© au cours du temps.</p>\n\n<p style="text-align: center;">*
 **Â </p>\n\n<p><strong>The forest of Strassen yesterday and today</strong>
 </p>\n\n<p>Milestones from 1772, burial mounds, beech and oak trees over 1
 50 years old are witnesses of the past. A water tank, gas and water pipes 
 are traces of the present in our forest. Forestry has also evolved over ti
 me.</p>\n\n<p>Â </p>\n\n<p><strong>Sprooch/ Langue / Language : </strong>L
 Ã«tzbuergesch, Traduction en franÃ§ais si nÃ©cessaire.<br />\n<strong>Guid
 es : </strong>Serge Bisenius & Carine Molitor-Braun<br />\nÂ </p>\n\n<p><s
 trong>Obligatoresch Umeldung bis / Inscription obligatoire / Registration 
 required until:</strong><br />\n<strong>12.05.2021</strong><br />\nÂ </p>\
 n\n<p><strong>Kontakt / Contact:</strong></p>\n\n<p>ANF Centre nature et f
 orÃªt Ellergronn<br />\nTel.: <a href="tel:24756516">247 56 516</a><br />\
 nE-mail: <a href="mailto:ellergronn@anf.etat.lu?subject=De%20Stroossener%2
 0B%C3%ABsch%20g%C3%ABschter%20an%20haut">ellergronn@anf.etat.lu</a></p>\n\
 n<p><br />\nOrganisation : <a href="https://anf.gouvernement.lu/fr.html" t
 arget="_blank">ANF</a>, <a href="https://environnement.public.lu/fr/natur-
 erliewen/centres-d_accueil/ellergronn.html" target="_blank">Centre nature 
 et forÃªt Ellergronn </a>& Commune de Strassen</p>\n\n<p>Â </p>
UID:2021-04-20-19-18-40
DTSTAMP:20210420T171840
END:VEVENT
END:VCALENDAR
