BEGIN:VCALENDAR
VERSION:2.0
PRODID:-//ZContent.net//ZapCalLib 1.0//EN
CALSCALE:GREGORIAN
METHOD:PUBLISH
BEGIN:VEVENT
SUMMARY:CafÃ© de Babel
DTSTART:20210607T190000
DTEND:20210607T210000
LOCATION:Centre Culturel Paul BarblÃ©, entrÃ©e rue des Romains, Strassen
X-ALT-DESC;FMTTYPE=text/html:<p>Dâ€™Stroossener Gemeng invitÃ©iert Iech hÃ¤
 erzlech op de <strong>CafÃ© de Babel an engem neie Format.</strong> Â Et g
 inn eng Rei u fixen DÃ«scher mat Sproochen a verschiddenen Niveauen, dÃ©i 
 Ã«mmer ugebuede ginn (LÃ«tzebuergesch, FransÃ©isch an Englesch). <strong>A
 ll Mount kÃ«nnt eng Sprooch dobÃ¤i, dÃ©i ofwiesselt</strong> wÃ©i z.B DÃ¤i
 tsch, Spuenesch, Italieenesch oder Chineesesch.</p>\n\n<p>Â </p>\n\n<p>Am 
 CafÃ© de Babel kÃ«nnt Dir folgend Sproochen Ã¼ben:</p>\n\n<p>1. LÃ«tzebuer
 gesch (minimum Niveau A 1 ofgeschloss)</p>\n\n<p>2. LÃ«tzebuergesch (minim
 um Niveau A 2 ofgeschloss)</p>\n\n<p>3. FransÃ©isch (minimum Niveau A 1 of
 geschloss)</p>\n\n<p>4. Englesch (minimum Niveau A 1 ofgeschloss)</p>\n\n<
 p>5. <b>Italieenesch</b>Â (minimum Niveau A 1 ofgeschloss)</p>\n\n<p>Â </p
 >\n\n<p>WÃ©inst der aktueller Situatioun sinn dâ€˜Plazen op <strong>4 Pers
 oune pro DÃ«sch limitÃ©iert</strong>. Dâ€˜Plaze ginn nom Prinzip â€žden Ã©
 ischten ass virâ€œ verdeelt. <strong>COVID-19 Schnelltester sinnÂ op der P
 laz disponibel.</strong></p>\n\n<p>DÃ©i sanitÃ¤r Moossnamen, dÃ©i zu deem 
 Moment a Kraaft sinn, musse respektÃ©iert ginn an dâ€˜<strong>Droe vun eng
 er Mask ass obligatoresch.</strong></p>\n\n<p>Â </p>\n\n<p><strong>Dâ€˜Ume
 ldung</strong> per E-Mail u <a href="mailto:liette.bour@strassen.lu?subjec
 t=Caf%C3%A9%20de%20Babel">liette.bour@strassen.lu</a>Â  <strong>ass obliga
 toresch</strong> a leeft bis freides virun der nÃ¤chster Editioun vum CafÃ
 © de Babel. PrÃ¤zisÃ©iert wgl. bei der Umeldung dâ€˜<strong>Sprooch an den
  Niveau</strong>, deen Dir praktizÃ©iere wÃ«llt.</p>\n\n<p>Â </p>\n\n<p st
 yle="text-align: center;">***</p>\n\n<p>Â </p>\n\n<p>La commune de Strasse
 n vous invite chaleureusement au <strong>CafÃ© de Babel, sous un nouveau f
 ormat.</strong> On y trouve une rangÃ©e de tables fixes oÃ¹ lâ€™on peut pr
 atiquer Ã  chaque fois les langues luxembourgeoise, franÃ§aise et anglaise
  Ã  divers niveaux. Ã€ cette offre sâ€™ajoute <strong>chaque mois une lang
 ue supplÃ©mentaire, qui change Ã  chaque Ã©dition, </strong>comme lâ€™alle
 mand, espagnol, lâ€™italien ou le chinois.</p>\n\n<p>Â </p>\n\n<p>Au CafÃ©
  de Babel, vous pouvez pratiquer les langues suivantesÂ :</p>\n\n<p>1. lux
 embourgeois (minimum requis : avoir atteint le niveau A 1)</p>\n\n<p>2. lu
 xembourgeois (minimum requis : avoir atteint le niveau A 2)</p>\n\n<p>3. f
 ranÃ§ais (minimum requis : avoir atteint le niveau A 1)</p>\n\n<p>4. angla
 is (minimum requis : avoir atteint le niveau A 1)</p>\n\n<p>5. <b>italien<
 /b>Â (minimum requis : avoir atteint le niveau A 1)</p>\n\n<p>Â </p>\n\n<p
 >En raison de la situation actuelle, le nombre de places par table se limi
 te Ã  4. Les places sont rÃ©parties selon le principe Â«Â premier arrivÃ©,
  premier serviÂ Â». <strong>Des testsÂ antigÃ©niquesÂ rapides Covid-19 son
 t disponibles sur place.</strong> Les mesures sanitaires en vigueur doiven
 t Ãªtre respectÃ©es et <strong>le port du masque est obligatoire.</strong>
 </p>\n\n<p>Â </p>\n\n<p>Une <strong>inscription au prÃ©alable est obligato
 ire</strong> en envoyant un courriel Ã  <a href="mailto:liette.bour@strass
 en.lu?subject=Caf%C3%A9%20de%20Babel">liette.bour@strassen.lu</a>. Les ins
 criptions se clÃ´turent le vendredi prÃ©cÃ©dant la prochaine Ã©dition du C
 afÃ© de Babel. Veuillez prÃ©ciser svp lors de <strong>lâ€™inscription quel
 le langue et quel niveau vous souhaitez mettre en pratique.</strong></p>\n
 \n<p>Â </p>\n\n<p style="text-align: center;">***</p>\n\n<p>Â </p>\n\n<p>T
 he municipality of Strassen cordially invites you to <strong>CafÃ© de Babe
 l in a new format.</strong> There is a set of tables with languages at dif
 ferent levels of difficulty, which are available each time (Luxembourgish,
  French, and English). <strong>Every month another language is added on a 
 rotational basis</strong>, for example German, Spanish, Italian or Chinese
 .</p>\n\n<p>Â </p>\n\n<p>You can practise the following languages at CafÃ©
  de Babel:</p>\n\n<p>1. Luxembourgish (at least completion of level A1)</p
 >\n\n<p>2. Luxembourgish (at least completion of level A2)</p>\n\n<p>3. Fr
 ench (at least completion of level A1)</p>\n\n<p>4. English (at least comp
 letion of level A1)</p>\n\n<p>5. <b>Italian</b>Â (at least completion of l
 evel A1)</p>\n\n<p>Â </p>\n\n<p>Due to the current situation, the spots at
  each table are limited to 4. These spots will be filled according to the 
 â€žfirst come, first servedâ€œ principle. <strong>COVID-19 rapid antigen t
 est are available on site.</strong> The sanitary measures in place at the 
 time, will have to be respected and <strong>wearing a mask is compulsory.<
 /strong></p>\n\n<p>Â </p>\n\n<p><strong>Registration</strong> via email to
  <a href="mailto:liette.bour@strassen.lu?subject=Caf%C3%A9%20de%20Babel">l
 iette.bour@strassen.lu</a> <strong>is mandatory</strong> and is open until
  the Friday before each session of CafÃ© de Babel. During registration, <s
 trong>please indicate which language youâ€™d like to practise and at what 
 level of difficulty.</strong></p>\n\n<p>Â </p>
UID:2021-04-20-19-19-05
DTSTAMP:20210420T171905
END:VEVENT
END:VCALENDAR
