BEGIN:VCALENDAR
VERSION:2.0
PRODID:-//ZContent.net//ZapCalLib 1.0//EN
CALSCALE:GREGORIAN
METHOD:PUBLISH
BEGIN:VEVENT
SUMMARY:Maart zu Stroossen
DTSTART:20210611T160000
DTEND:20210611T190000
LOCATION:Centre Culturel Paul BarblÃ©, entrÃ©e rue des Romains, Strassen
X-ALT-DESC;FMTTYPE=text/html:<p>Zwee mol de Mount ass Maart zu Stroossen wo
 u Dir <strong>frÃ«sch, alternatif, ecologesch an nohalteg Produiten</stron
 g> ze kaafe kritt.</p>\n\n<p><strong>All 2. a 4. Freiden am Mount</strong>
  um Parking vum Centre Culturel Paul BarblÃ©.</p>\n\n<p>- Uebst a GemÃ©is<
 /p>\n\n<p>- Traditionnelt Brout</p>\n\n<p>- Fleesch Produit du Terroir</p>
 \n\n<p>- Oliven an Antipasti</p>\n\n<p>- Nuddelen a Pizza</p>\n\n<p>- Hunn
 eg</p>\n\n<p>- Blummen & DekoratiounÂ </p>\n\n<p>- SÃ©issegkeeten, NÃ«ss, 
 Nougat, Schockela, etc...</p>\n\n<p><strong>Dâ€™Droen vun engem Mond- Nues
 schutz(Mask, Schal oder Buff) ass um Maart obligatoresch.</strong></p>\n\n
 <p style="text-align: center;">***</p>\n\n<p>MarchÃ©Â bimensuel aux <stron
 g>produits frais, alternatifs, Ã©cologiques et durables</strong></p>\n\n<p
 ><strong>Chaque 2e et 4e vendredi du mois</strong> au parking du Centre Cu
 lturel Paul BarblÃ©.Â </p>\n\n<p>- Fruits et lÃ©gumes</p>\n\n<p>- Pain tra
 ditionnelÂ </p>\n\n<p>- Viande du terroir</p>\n\n<p>- Olives et antipastiÂ
  </p>\n\n<p>- PÃ¢tes et pizzaÂ </p>\n\n<p>- MielÂ </p>\n\n<p>- Fleurs & dÃ
 ©corations</p>\n\n<p>- Confiserie</p>\n\n<p><strong>Le port dâ€™une protec
 tion buccale (masque, Ã©charpe ou buff) est obligatoire lors du marchÃ©.Â 
 </strong></p>\n\n<p style="text-align: center;">***</p>\n\n<p>Bimonthly ma
 rket of <strong>fresh, alternative, ecological and sustainable products</s
 trong></p>\n\n<p><strong>Every 2nd and 4th Friday of the month</strong>Â a
 tÂ the car park of the Cultural Center Paul BarblÃ©.</p>\n\n<p>- Fruits an
 d vegetables</p>\n\n<p>- Traditional bread</p>\n\n<p>- Local meat</p>\n\n<
 p>- Olives and antipasti</p>\n\n<p>- Pasta and pizza</p>\n\n<p>- Honey</p>
 \n\n<p>- Flowers & decorations</p>\n\n<p>- Candy store</p>\n\n<p><strong>W
 earing mouth protection (mask, scarf or buff) is compulsory at the market.
 </strong></p>
UID:2021-04-20-19-19-09
DTSTAMP:20210420T171909
END:VEVENT
END:VCALENDAR
