BEGIN:VCALENDAR
VERSION:2.0
PRODID:-//ZContent.net//ZapCalLib 1.0//EN
CALSCALE:GREGORIAN
METHOD:PUBLISH
BEGIN:VEVENT
SUMMARY:Bicherclub op Lëtzebuergesch
DTSTART:20210624T190000
DTEND:20210624T203000
LOCATION:E-learning
X-ALT-DESC;FMTTYPE=text/html:<p>Bicherclub op Lëtzebuergesch  </p>\n\n<p
 > </p>\n\n<p>Net nëmme fir Mammesproochler</p>\n\n<p> </p>\n\n<p>Jidder
 een, deen interesséiert ass Lëtzebuergesch ze liesen an iwwer Bicher ze 
 diskutéieren, ass wëllkomm.<br />\nMir treffen eis eemol am Mount, donne
 schdes, fir iwwer e Buch ze diskutéieren, dat mir am Viraus<br />\nerausg
 esicht hunn.<br />\nWéinst der aktueller Situatioun fannen eis Treffe per
  Zoom statt. No der Umeldung kritt Dir e Link zougeschéckt.</p>\n\n<p> <
 /p>\n\n<ul>\n	<li>24. Juni: Klangfaarwen - Jhemp Hoscheit</li>\n</ul>\n\n<
 p> </p>\n\n<p>Moderatorin: <a href="https://www.strassen.lu/citoyens-resi
 dents/services-communaux/service-formation-continue">Liette Bour</a></p>\n
 \n<p> </p>\n\n<p>Fir weider Froen an Umeldung: <a href="mailto:luiza.sosn
 a@strassen.lu?subject=Bicherclub">luiza.sosna@strassen.lu</a></p>
UID:2021-04-20-19-19-17
DTSTAMP:20210420T171917
END:VEVENT
END:VCALENDAR
