BEGIN:VCALENDAR
VERSION:2.0
PRODID:-//ZContent.net//ZapCalLib 1.0//EN
CALSCALE:GREGORIAN
METHOD:PUBLISH
BEGIN:VEVENT
SUMMARY:Bicherbus
DTSTART:20210630T130000
DTEND:20210630T135500
LOCATION:
X-ALT-DESC;FMTTYPE=text/html:<p>De Bicherbus ass eng GRATIS Initiativ vum 
 Ministère de la Culture.<br />\nDir hutt de Choix tëschent 80.000 Bicher
  aus allen Domainen. Déi meescht Bicher si fir Kanner a Jugendlecher. 9
 0% vun de Clientë léinen däitsch Bicher. Dofir sinn déi meescht Bich
 er och op däitscher Sprooch.<br />\nDir fannt och Bicher op franséischer
 , lëtzbuergescher an englescher Sprooch.</p>\n\n<p> </p>\n\n<p><strong>E
 ng Reservatioun am Viraus iwwer <a href="https://a-z.lu/primo-explore/se
 arch?vid=BIBNET&tab=all_content&lang=fr_FR" target="_blank">a-z.lu </a>vu
 n den Dokumenter gëtt recommandéiert. D'sanitär Mesuren an d'Geste-bar
 rièren mussen am Bicherbus respektéiert ginn. </strong></p>\n\n<p> </p
 >\n\n<p><em>La réservation préalable via <a href="https://a-z.lu/primo-
 explore/search?vid=BIBNET&tab=all_content&lang=fr_FR" target="_blank">a-z.
 lu</a> des documents est recommandée. Pendant la visite du Bicherbus, le
 s mesures sanitaires et les gestes barrière sont à respecter .</em></p>
 \n\n<p> </p>\n\n<p>A prior reservation via <a href="https://a-z.lu/primo
 -explore/search?vid=BIBNET&tab=all_content&lang=fr_FR" target="_blank">a-z
 .lu</a> of the documents is recommended. The hygiene and social distancin
 g measures have to be respected during the visit of the Bicherbus.</p>
UID:2021-04-20-19-19-29
DTSTAMP:20210420T171929
END:VEVENT
END:VCALENDAR
