BEGIN:VCALENDAR
VERSION:2.0
PRODID:-//ZContent.net//ZapCalLib 1.0//EN
CALSCALE:GREGORIAN
METHOD:PUBLISH
BEGIN:VEVENT
SUMMARY:CafÃ© de Babel
DTSTART:20210705T190000
DTEND:20210705T210000
LOCATION:Centre Culturel Paul BarblÃ©, entrÃ©e rue des Romains, Strassen
X-ALT-DESC;FMTTYPE=text/html:<p>Dâ€™Stroossener Gemeng invitÃ©iert Iech hÃ¤
 erzlech op de <strong>CafÃ© de Babel an engem neie Format.</strong> Â Et g
 inn eng Rei u fixen DÃ«scher mat Sproochen a verschiddenen Niveauen, dÃ©i 
 Ã«mmer ugebuede ginn (LÃ«tzebuergesch, FransÃ©isch an Englesch). <strong>A
 ll Mount kÃ«nnt eng Sprooch dobÃ¤i, dÃ©i ofwiesselt</strong> wÃ©i z.B DÃ¤i
 tsch, Spuenesch, Italieenesch oder Chineesesch.</p>\n\n<p>Â </p>\n\n<p>Am 
 CafÃ© de Babel kÃ«nnt Dir folgend Sproochen Ã¼ben:</p>\n\n<p>1. LÃ«tzebuer
 gesch (minimum Niveau A 1 ofgeschloss)</p>\n\n<p>2. LÃ«tzebuergesch (minim
 um Niveau A 2 ofgeschloss)</p>\n\n<p>3. FransÃ©isch (minimum Niveau A 1 of
 geschloss)</p>\n\n<p>4. Englesch (minimum Niveau A 1 ofgeschloss)</p>\n\n<
 p>5. <strong>Chinees</strong><b>esch</b>Â (minimum Niveau A 1 ofgeschloss)
 </p>\n\n<p>Â </p>\n\n<p>WÃ©inst der aktueller Situatioun sinn dâ€˜Plazen o
 p <strong>4 Persoune pro DÃ«sch limitÃ©iert</strong>. Dâ€˜Plaze ginn nom P
 rinzip â€žden Ã©ischten ass virâ€œ verdeelt. <strong>COVID-19 Schnellteste
 r sinnÂ op der Plaz disponibel.</strong></p>\n\n<p>DÃ©i sanitÃ¤r Moossname
 n, dÃ©i zu deem Moment a Kraaft sinn, musse respektÃ©iert ginn an dâ€˜<str
 ong>Droe vun enger Mask ass obligatoresch.</strong></p>\n\n<p>Â </p>\n\n<p
 ><strong>Dâ€˜Umeldung</strong> per E-Mail u <a href="mailto:liette.bour@st
 rassen.lu?subject=Caf%C3%A9%20de%20Babel">liette.bour@strassen.lu</a>Â  <s
 trong>ass obligatoresch</strong> a leeft bis freides virun der nÃ¤chster E
 ditioun vum CafÃ© de Babel. PrÃ¤zisÃ©iert wgl. bei der Umeldung dâ€˜<stron
 g>Sprooch an den Niveau</strong>, deen Dir praktizÃ©iere wÃ«llt.</p>\n\n<p
 >Â </p>\n\n<p style="text-align: center;">***</p>\n\n<p>Â </p>\n\n<p>La co
 mmune de Strassen vous invite chaleureusement au <strong>CafÃ© de Babel, s
 ous un nouveau format.</strong> On y trouve une rangÃ©e de tables fixes oÃ
 ¹ lâ€™on peut pratiquer Ã  chaque fois les langues luxembourgeoise, franÃ§
 aise et anglaise Ã  divers niveaux. Ã€ cette offre sâ€™ajoute <strong>chaq
 ue mois une langue supplÃ©mentaire, qui change Ã  chaque Ã©dition, </stron
 g>comme lâ€™allemand, espagnol, lâ€™italien ou le chinois.</p>\n\n<p>Â </p
 >\n\n<p>Au CafÃ© de Babel, vous pouvez pratiquer les langues suivantesÂ :<
 /p>\n\n<p>1. luxembourgeois (minimum requis : avoir atteint le niveau A 1)
 </p>\n\n<p>2. luxembourgeois (minimum requis : avoir atteint le niveau A 2
 )</p>\n\n<p>3. franÃ§ais (minimum requis : avoir atteint le niveau A 1)</p
 >\n\n<p>4. anglais (minimum requis : avoir atteint le niveau A 1)</p>\n\n<
 p>5. <b>chinois</b>Â (minimum requis : avoir atteint le niveau A 1)</p>\n\
 n<p>Â </p>\n\n<p>En raison de la situation actuelle, le nombre de places p
 ar table se limite Ã  4. Les places sont rÃ©parties selon le principe Â«Â 
 premier arrivÃ©, premier serviÂ Â». <strong>Des testsÂ antigÃ©niquesÂ rapi
 des Covid-19 sont disponibles sur place.</strong> Les mesures sanitaires e
 n vigueur doivent Ãªtre respectÃ©es et <strong>le port du masque est oblig
 atoire.</strong></p>\n\n<p>Â </p>\n\n<p>Une <strong>inscription au prÃ©ala
 ble est obligatoire</strong> en envoyant un courriel Ã  <a href="mailto:li
 ette.bour@strassen.lu?subject=Caf%C3%A9%20de%20Babel">liette.bour@strassen
 .lu</a>. Les inscriptions se clÃ´turent le vendredi prÃ©cÃ©dant la prochai
 ne Ã©dition du CafÃ© de Babel. Veuillez prÃ©ciser svp lors de <strong>lâ€™
 inscription quelle langue et quel niveau vous souhaitez mettre en pratique
 .</strong></p>\n\n<p>Â </p>\n\n<p style="text-align: center;">***</p>\n\n<
 p>Â </p>\n\n<p>The municipality of Strassen cordially invites you to <stro
 ng>CafÃ© de Babel in a new format.</strong> There is a set of tables with 
 languages at different levels of difficulty, which are available each time
  (Luxembourgish, French, and English). <strong>Every month another languag
 e is added on a rotational basis</strong>, for example German, Spanish, It
 alian or Chinese.</p>\n\n<p>Â </p>\n\n<p>You can practise the following la
 nguages at CafÃ© de Babel:</p>\n\n<p>1. Luxembourgish (at least completion
  of level A1)</p>\n\n<p>2. Luxembourgish (at least completion of level A2)
 </p>\n\n<p>3. French (at least completion of level A1)</p>\n\n<p>4. Englis
 h (at least completion of level A1)</p>\n\n<p>5. <b>Chinese</b>Â (at least
  completion of level A1)</p>\n\n<p>Â </p>\n\n<p>Due to the current situati
 on, the spots at each table are limited to 4. These spots will be filled a
 ccording to the â€žfirst come, first servedâ€œ principle. <strong>COVID-19
  rapid antigen test are available on site.</strong> The sanitary measures 
 in place at the time, will have to be respected and <strong>wearing a mask
  is compulsory.</strong></p>\n\n<p>Â </p>\n\n<p><strong>Registration</stro
 ng> via email to <a href="mailto:liette.bour@strassen.lu?subject=Caf%C3%A9
 %20de%20Babel">liette.bour@strassen.lu</a> <strong>is mandatory</strong> a
 nd is open until the Friday before each session of CafÃ© de Babel. During 
 registration, <strong>please indicate which language youâ€™d like to pract
 ise and at what level of difficulty.</strong></p>\n\n<p>Â </p>
UID:2021-04-20-19-19-31
DTSTAMP:20210420T171931
END:VEVENT
END:VCALENDAR
