BEGIN:VCALENDAR
VERSION:2.0
PRODID:-//ZContent.net//ZapCalLib 1.0//EN
CALSCALE:GREGORIAN
METHOD:PUBLISH
BEGIN:VEVENT
SUMMARY:Séance du conseil communal
DTSTART:20210929T143000
DTEND:20210929T193000
LOCATION:Centre Culturel Paul Barblé, entrée rue des Romains, Strassen
X-ALT-DESC;FMTTYPE=text/html:<p>Nous tenons à vous informer que la prochai
 ne séance du conseil communal aura lieu le 29 septembre à 14h30 au Cen
 tre Culturel Paul Barblé.</p>\n\n<p> </p>\n\n<p> </p>
UID:2021-04-20-19-19-39
DTSTAMP:20210420T171939
END:VEVENT
END:VCALENDAR
